BEGIN:VCALENDAR
VERSION:2.0
PRODID:-//Paroisse Sainte Anne de Polangis - Joinville le Pont - ECPv5.16.1.1//NONSGML v1.0//EN
CALSCALE:GREGORIAN
METHOD:PUBLISH
X-ORIGINAL-URL:https://paroissejoinvillelepont.fr
X-WR-CALDESC:évènements pour Paroisse Sainte Anne de Polangis - Joinville le Pont
REFRESH-INTERVAL;VALUE=DURATION:PT1H
X-Robots-Tag:noindex
X-PUBLISHED-TTL:PT1H
BEGIN:VTIMEZONE
TZID:Europe/Paris
BEGIN:DAYLIGHT
TZOFFSETFROM:+0100
TZOFFSETTO:+0200
TZNAME:CEST
DTSTART:20160327T010000
END:DAYLIGHT
BEGIN:STANDARD
TZOFFSETFROM:+0200
TZOFFSETTO:+0100
TZNAME:CET
DTSTART:20161030T010000
END:STANDARD
END:VTIMEZONE
BEGIN:VEVENT
DTSTART;TZID=Europe/Paris:20160304T203000
DTEND;TZID=Europe/Paris:20160304T203000
DTSTAMP:20260424T173634
CREATED:20160203T131134Z
LAST-MODIFIED:20160326T144843Z
UID:1269-1457123400-1457123400@paroissejoinvillelepont.fr
SUMMARY:Vendredis de Carême : Apprends nous à prier
DESCRIPTION:Cycle de questions et de partage sur des thématiques. Pour plus de détails
URL:https://paroissejoinvillelepont.fr/evenement/careme-le-livre-de-lexode-2016-03-04/
LOCATION:Saint Charles Borromée\, 5 rue de Paris\, Joinville-le-Pont\, 94340\, France
CATEGORIES:Rassemblements et rencontres
ORGANIZER;CN="P%C3%A8re%20Gr%C3%A9goire%20Bellut":MAILTO:pgbellut@paroissejoinvillelepont.fr
END:VEVENT
BEGIN:VEVENT
DTSTART;TZID=Europe/Paris:20160305T110000
DTEND;TZID=Europe/Paris:20160305T133000
DTSTAMP:20260424T173634
CREATED:20160304T093210Z
LAST-MODIFIED:20160304T093648Z
UID:1409-1457175600-1457184600@paroissejoinvillelepont.fr
SUMMARY:AFC. conférence et apéritif dinatoire
DESCRIPTION:Samedi 5 à 11h. dans les locaux de St Charles \, comme indiqué dans la feuille paroissiale\, l’association familiale catholique de Joinville vous invite à un apéritif-déjeunatoire \nPrésentation des activités\, intervenants :\n– Mme Cardinne a accepté de venir vous expliquer ce qu’est un “chantier-éducation”\, car ce service des AFC qui existe dans plus de 500 villes de France vient de démarrer à Joinville\n– Gérard Leclerc écrivain\, paroissien et journaliste sur Radio-Notre Dame (que vous pouvez entendre tous les matins) fera une intervention sur un sujet d’actualité.
URL:https://paroissejoinvillelepont.fr/evenement/afc-conference-et-aperitif-dinatoire/
LOCATION:Saint Charles Borromée\, 5 rue de Paris\, Joinville-le-Pont\, 94340\, France
CATEGORIES:Rassemblements et rencontres
END:VEVENT
BEGIN:VEVENT
DTSTART;TZID=Europe/Paris:20160307T190000
DTEND;TZID=Europe/Paris:20160307T210000
DTSTAMP:20260424T173634
CREATED:20160109T141806Z
LAST-MODIFIED:20160109T141806Z
UID:1211-1457377200-1457384400@paroissejoinvillelepont.fr
SUMMARY:Soupe fraternelle
DESCRIPTION:Du 7 décembre au 21 mars\, les paroisses de Saint-Charles et de sainte-Anne de Polangis à Joinville offrent aux personnes qui se sentent seules ou qui ont de petits moyens\, une soupe fraternelle\, tous les lundis de 19h à 21h. \nSalle Saint-Jean XXIII\, cour de l’église Saint-Charles
URL:https://paroissejoinvillelepont.fr/evenement/soupe-solidaire-3-2016-03-07/
CATEGORIES:Rassemblements et rencontres
END:VEVENT
BEGIN:VEVENT
DTSTART;TZID=Europe/Paris:20160308T140000
DTEND;TZID=Europe/Paris:20160308T213000
DTSTAMP:20260424T173634
CREATED:20160116T110311Z
LAST-MODIFIED:20160116T110438Z
UID:943-1457445600-1457472600@paroissejoinvillelepont.fr
SUMMARY:Partage Contemplatif d'un Évangile
DESCRIPTION:14h30 Ste Anne     20h30 St Charles
URL:https://paroissejoinvillelepont.fr/evenement/partage-contemplatif-dun-evangile-3/
CATEGORIES:Rassemblements et rencontres
END:VEVENT
BEGIN:VEVENT
DTSTART;TZID=Europe/Paris:20160309T203000
DTEND;TZID=Europe/Paris:20160309T220000
DTSTAMP:20260424T173634
CREATED:20160222T130010Z
LAST-MODIFIED:20160222T130010Z
UID:1357-1457555400-1457560800@paroissejoinvillelepont.fr
SUMMARY:groupe Parole de Dieu
DESCRIPTION:salle St Marc à St Charles
URL:https://paroissejoinvillelepont.fr/evenement/groupe-parole-de-dieu-2/
LOCATION:Saint Charles Borromée\, 5 rue de Paris\, Joinville-le-Pont\, 94340\, France
CATEGORIES:Rassemblements et rencontres
END:VEVENT
BEGIN:VEVENT
DTSTART;TZID=Europe/Paris:20160311T203000
DTEND;TZID=Europe/Paris:20160311T220000
DTSTAMP:20260424T173634
CREATED:20160131T182013Z
LAST-MODIFIED:20160325T201212Z
UID:1231-1457728200-1457733600@paroissejoinvillelepont.fr
SUMMARY:Conférence de Grégoire Ahongbonon
DESCRIPTION:Grégoire Ahongbonon a œuvré en Afrique pour la libération des handicapés\, souvent attachés à un tronc d’arbre. \nVoici un témoignage très fort sur un problème de société africain le vendredi 11 mars à St Charles de 20h30 à 22h \nhttp://www.la-croix.com/…/Gregoire-Ahongbonon-pour-la-dignite-des-fous-en- Afrique-2015-10-25-1372567
URL:https://paroissejoinvillelepont.fr/evenement/conference-de-gregoire-ahongbonon/
LOCATION:Saint Charles Borromée\, 5 rue de Paris\, Joinville-le-Pont\, 94340\, France
CATEGORIES:Rassemblements et rencontres
END:VEVENT
BEGIN:VEVENT
DTSTART;TZID=Europe/Paris:20160314T190000
DTEND;TZID=Europe/Paris:20160314T210000
DTSTAMP:20260424T173634
CREATED:20160109T141806Z
LAST-MODIFIED:20160109T141806Z
UID:1212-1457982000-1457989200@paroissejoinvillelepont.fr
SUMMARY:Soupe fraternelle
DESCRIPTION:Du 7 décembre au 21 mars\, les paroisses de Saint-Charles et de sainte-Anne de Polangis à Joinville offrent aux personnes qui se sentent seules ou qui ont de petits moyens\, une soupe fraternelle\, tous les lundis de 19h à 21h. \nSalle Saint-Jean XXIII\, cour de l’église Saint-Charles
URL:https://paroissejoinvillelepont.fr/evenement/soupe-solidaire-3-2016-03-14/
CATEGORIES:Rassemblements et rencontres
END:VEVENT
BEGIN:VEVENT
DTSTART;TZID=Europe/Paris:20160318T203000
DTEND;TZID=Europe/Paris:20160318T203000
DTSTAMP:20260424T173634
CREATED:20160203T131134Z
LAST-MODIFIED:20160326T144818Z
UID:1271-1458333000-1458333000@paroissejoinvillelepont.fr
SUMMARY:Vendredis de Carême : Le Puissant fit pour moi des merveilles
DESCRIPTION:Comment Dieu intervient dans mon histoire ?\nCycle de questions et de partage sur des thématiques. Pour plus de détails
URL:https://paroissejoinvillelepont.fr/evenement/careme-le-livre-de-lexode-2016-03-18/
LOCATION:Saint Charles Borromée\, 5 rue de Paris\, Joinville-le-Pont\, 94340\, France
CATEGORIES:Rassemblements et rencontres
ORGANIZER;CN="P%C3%A8re%20Gr%C3%A9goire%20Bellut":MAILTO:pgbellut@paroissejoinvillelepont.fr
END:VEVENT
BEGIN:VEVENT
DTSTART;TZID=Europe/Paris:20160321T190000
DTEND;TZID=Europe/Paris:20160321T210000
DTSTAMP:20260424T173634
CREATED:20160109T141806Z
LAST-MODIFIED:20160109T141806Z
UID:1213-1458586800-1458594000@paroissejoinvillelepont.fr
SUMMARY:Soupe fraternelle
DESCRIPTION:Du 7 décembre au 21 mars\, les paroisses de Saint-Charles et de sainte-Anne de Polangis à Joinville offrent aux personnes qui se sentent seules ou qui ont de petits moyens\, une soupe fraternelle\, tous les lundis de 19h à 21h. \nSalle Saint-Jean XXIII\, cour de l’église Saint-Charles
URL:https://paroissejoinvillelepont.fr/evenement/soupe-solidaire-3-2016-03-21/
CATEGORIES:Rassemblements et rencontres
END:VEVENT
BEGIN:VEVENT
DTSTART;TZID=Europe/Paris:20160328T190000
DTEND;TZID=Europe/Paris:20160328T210000
DTSTAMP:20260424T173634
CREATED:20160109T141806Z
LAST-MODIFIED:20160109T141806Z
UID:1214-1459191600-1459198800@paroissejoinvillelepont.fr
SUMMARY:Soupe fraternelle
DESCRIPTION:Du 7 décembre au 21 mars\, les paroisses de Saint-Charles et de sainte-Anne de Polangis à Joinville offrent aux personnes qui se sentent seules ou qui ont de petits moyens\, une soupe fraternelle\, tous les lundis de 19h à 21h. \nSalle Saint-Jean XXIII\, cour de l’église Saint-Charles
URL:https://paroissejoinvillelepont.fr/evenement/soupe-solidaire-3-2016-03-28/
CATEGORIES:Rassemblements et rencontres
END:VEVENT
END:VCALENDAR