BEGIN:VCALENDAR
VERSION:2.0
PRODID:-//Paroisse Sainte Anne de Polangis - Joinville le Pont - ECPv5.16.1.1//NONSGML v1.0//EN
CALSCALE:GREGORIAN
METHOD:PUBLISH
X-WR-CALNAME:Paroisse Sainte Anne de Polangis - Joinville le Pont
X-ORIGINAL-URL:https://paroissejoinvillelepont.fr
X-WR-CALDESC:évènements pour Paroisse Sainte Anne de Polangis - Joinville le Pont
REFRESH-INTERVAL;VALUE=DURATION:PT1H
X-Robots-Tag:noindex
X-PUBLISHED-TTL:PT1H
BEGIN:VTIMEZONE
TZID:Europe/Paris
BEGIN:DAYLIGHT
TZOFFSETFROM:+0100
TZOFFSETTO:+0200
TZNAME:CEST
DTSTART:20160327T010000
END:DAYLIGHT
BEGIN:STANDARD
TZOFFSETFROM:+0200
TZOFFSETTO:+0100
TZNAME:CET
DTSTART:20161030T010000
END:STANDARD
END:VTIMEZONE
BEGIN:VEVENT
DTSTART;TZID=Europe/Paris:20160201T190000
DTEND;TZID=Europe/Paris:20160201T210000
DTSTAMP:20260424T185541
CREATED:20160109T141806Z
LAST-MODIFIED:20160109T141806Z
UID:1206-1454353200-1454360400@paroissejoinvillelepont.fr
SUMMARY:Soupe fraternelle
DESCRIPTION:Du 7 décembre au 21 mars\, les paroisses de Saint-Charles et de sainte-Anne de Polangis à Joinville offrent aux personnes qui se sentent seules ou qui ont de petits moyens\, une soupe fraternelle\, tous les lundis de 19h à 21h. \nSalle Saint-Jean XXIII\, cour de l’église Saint-Charles
URL:https://paroissejoinvillelepont.fr/evenement/soupe-solidaire-3-2016-02-01/
CATEGORIES:Rassemblements et rencontres
END:VEVENT
BEGIN:VEVENT
DTSTART;TZID=Europe/Paris:20160203T203000
DTEND;TZID=Europe/Paris:20160203T220000
DTSTAMP:20260424T185541
CREATED:20160124T140931Z
LAST-MODIFIED:20160124T183508Z
UID:1205-1454531400-1454536800@paroissejoinvillelepont.fr
SUMMARY:Groupe "parole de Dieu"
DESCRIPTION:Lecture et partage autour de la Genèse un mercredi par mois.\nPour en savoir plus
URL:https://paroissejoinvillelepont.fr/evenement/groupe-parole-de-dieu/
LOCATION:Saint Charles Borromée\, 5 rue de Paris\, Joinville-le-Pont\, 94340\, France
CATEGORIES:Rassemblements et rencontres
ORGANIZER;CN="Philippe%20Brillault":MAILTO:parolededieu@paroissejoinvillelepont.fr
END:VEVENT
BEGIN:VEVENT
DTSTART;TZID=Europe/Paris:20160206T160000
DTEND;TZID=Europe/Paris:20160206T170000
DTSTAMP:20260424T185541
CREATED:20160124T135516Z
LAST-MODIFIED:20160124T135516Z
UID:1199-1454774400-1454778000@paroissejoinvillelepont.fr
SUMMARY:Fête des communautés : répétition des chants
DESCRIPTION:Pour bien préparer la messe du 7 janvier. Rendez-vous à la salle paroissiale
URL:https://paroissejoinvillelepont.fr/evenement/fete-des-communautes-repetition-des-chants-2016-02-06/
LOCATION:Saint Charles Borromée\, 5 rue de Paris\, Joinville-le-Pont\, 94340\, France
CATEGORIES:Rassemblements et rencontres
END:VEVENT
BEGIN:VEVENT
DTSTART;TZID=Europe/Paris:20160207T110000
DTEND;TZID=Europe/Paris:20160207T120000
DTSTAMP:20260424T185541
CREATED:20151130T064429Z
LAST-MODIFIED:20151130T064429Z
UID:340-1454842800-1454846400@paroissejoinvillelepont.fr
SUMMARY:Fête des Communautés
DESCRIPTION:
URL:https://paroissejoinvillelepont.fr/evenement/fete-des-communautes/
LOCATION:Saint Charles Borromée\, 5 rue de Paris\, Joinville-le-Pont\, 94340\, France
CATEGORIES:Messes et célébrations,Rassemblements et rencontres
END:VEVENT
BEGIN:VEVENT
DTSTART;TZID=Europe/Paris:20160208T190000
DTEND;TZID=Europe/Paris:20160208T210000
DTSTAMP:20260424T185541
CREATED:20160109T141806Z
LAST-MODIFIED:20160109T141806Z
UID:1207-1454958000-1454965200@paroissejoinvillelepont.fr
SUMMARY:Soupe fraternelle
DESCRIPTION:Du 7 décembre au 21 mars\, les paroisses de Saint-Charles et de sainte-Anne de Polangis à Joinville offrent aux personnes qui se sentent seules ou qui ont de petits moyens\, une soupe fraternelle\, tous les lundis de 19h à 21h. \nSalle Saint-Jean XXIII\, cour de l’église Saint-Charles
URL:https://paroissejoinvillelepont.fr/evenement/soupe-solidaire-3-2016-02-08/
CATEGORIES:Rassemblements et rencontres
END:VEVENT
BEGIN:VEVENT
DTSTART;TZID=Europe/Paris:20160209T140000
DTEND;TZID=Europe/Paris:20160209T213000
DTSTAMP:20260424T185541
CREATED:20160116T110139Z
LAST-MODIFIED:20160116T110351Z
UID:942-1455026400-1455053400@paroissejoinvillelepont.fr
SUMMARY:Partage Contemplatif d'un Évangile
DESCRIPTION:14h-15h Ste Anne        20h30-21h30 St Charles
URL:https://paroissejoinvillelepont.fr/evenement/partage-contemplatif-dun-evangile-2/
CATEGORIES:Rassemblements et rencontres
END:VEVENT
BEGIN:VEVENT
DTSTART;TZID=Europe/Paris:20160211T203000
DTEND;TZID=Europe/Paris:20160211T203000
DTSTAMP:20260424T185541
CREATED:20160203T131134Z
LAST-MODIFIED:20160208T110451Z
UID:1265-1455222600-1455222600@paroissejoinvillelepont.fr
SUMMARY:Carême : Lecture de la Bible
DESCRIPTION:Le livre de l’Exode\nEnseignement autour de la lecture proposée pour le carême. Pour plus de détails
URL:https://paroissejoinvillelepont.fr/evenement/careme-le-livre-de-lexode/
LOCATION:Saint Charles Borromée\, 5 rue de Paris\, Joinville-le-Pont\, 94340\, France
CATEGORIES:Rassemblements et rencontres
ORGANIZER;CN="P%C3%A8re%20Gr%C3%A9goire%20Bellut":MAILTO:pgbellut@paroissejoinvillelepont.fr
END:VEVENT
BEGIN:VEVENT
DTSTART;TZID=Europe/Paris:20160215T190000
DTEND;TZID=Europe/Paris:20160215T210000
DTSTAMP:20260424T185541
CREATED:20160109T141806Z
LAST-MODIFIED:20160109T141806Z
UID:1208-1455562800-1455570000@paroissejoinvillelepont.fr
SUMMARY:Soupe fraternelle
DESCRIPTION:Du 7 décembre au 21 mars\, les paroisses de Saint-Charles et de sainte-Anne de Polangis à Joinville offrent aux personnes qui se sentent seules ou qui ont de petits moyens\, une soupe fraternelle\, tous les lundis de 19h à 21h. \nSalle Saint-Jean XXIII\, cour de l’église Saint-Charles
URL:https://paroissejoinvillelepont.fr/evenement/soupe-solidaire-3-2016-02-15/
CATEGORIES:Rassemblements et rencontres
END:VEVENT
BEGIN:VEVENT
DTSTART;TZID=Europe/Paris:20160218T110000
DTEND;TZID=Europe/Paris:20160218T180000
DTSTAMP:20260424T185541
CREATED:20160218T103246Z
LAST-MODIFIED:20160218T104721Z
UID:1343-1455793200-1455818400@paroissejoinvillelepont.fr
SUMMARY:Forum diocésain Familles
DESCRIPTION:Suite du synode\, les forums. \n« Vivre l’Evangile de la famille\, un défi que nous lance le pape François ! »\nDe 11h à 18h à l’école Sainte Thérèse à Maisons Alfort. (110 avenue du Général de Gaulle). \nVoir descriptif : Synode : forums et maisons d’Evangile \n 
URL:https://paroissejoinvillelepont.fr/evenement/forum-diocesain-familles/
CATEGORIES:Rassemblements et rencontres
END:VEVENT
BEGIN:VEVENT
DTSTART;TZID=Europe/Paris:20160219T203000
DTEND;TZID=Europe/Paris:20160219T203000
DTSTAMP:20260424T185541
CREATED:20160203T131134Z
LAST-MODIFIED:20160326T144925Z
UID:1267-1455913800-1455913800@paroissejoinvillelepont.fr
SUMMARY:Vendredis de Carême : Vivre la vérité en nous
DESCRIPTION:Un cycle de questions et de partages sur des thématiques. Pour plus de détails
URL:https://paroissejoinvillelepont.fr/evenement/careme-le-livre-de-lexode-2016-02-19/
LOCATION:Saint Charles Borromée\, 5 rue de Paris\, Joinville-le-Pont\, 94340\, France
CATEGORIES:Rassemblements et rencontres
ORGANIZER;CN="P%C3%A8re%20Gr%C3%A9goire%20Bellut":MAILTO:pgbellut@paroissejoinvillelepont.fr
END:VEVENT
BEGIN:VEVENT
DTSTART;TZID=Europe/Paris:20160222T190000
DTEND;TZID=Europe/Paris:20160222T210000
DTSTAMP:20260424T185541
CREATED:20160109T141806Z
LAST-MODIFIED:20160109T141806Z
UID:1209-1456167600-1456174800@paroissejoinvillelepont.fr
SUMMARY:Soupe fraternelle
DESCRIPTION:Du 7 décembre au 21 mars\, les paroisses de Saint-Charles et de sainte-Anne de Polangis à Joinville offrent aux personnes qui se sentent seules ou qui ont de petits moyens\, une soupe fraternelle\, tous les lundis de 19h à 21h. \nSalle Saint-Jean XXIII\, cour de l’église Saint-Charles
URL:https://paroissejoinvillelepont.fr/evenement/soupe-solidaire-3-2016-02-22/
CATEGORIES:Rassemblements et rencontres
END:VEVENT
BEGIN:VEVENT
DTSTART;TZID=Europe/Paris:20160226T190000
DTEND;TZID=Europe/Paris:20160226T223000
DTSTAMP:20260424T185541
CREATED:20160124T134132Z
LAST-MODIFIED:20160124T134633Z
UID:1191-1456513200-1456525800@paroissejoinvillelepont.fr
SUMMARY:Prière des jeunes de Taizé
DESCRIPTION:Le dernier vendredi de chaque mois\, à Saint-Charles : 19h messe suivie d’un repas partagé entre jeunes
URL:https://paroissejoinvillelepont.fr/evenement/priere-des-jeunes-de-taize-2016-02-26/
LOCATION:Saint Charles Borromée\, 5 rue de Paris\, Joinville-le-Pont\, 94340\, France
CATEGORIES:Rassemblements et rencontres
ATTACH;FMTTYPE=image/png:https://paroissejoinvillelepont.fr/wp-content/uploads/2016/01/logo-communaute-taize.png
ORGANIZER;CN="Unnamed%20Organisateur":MAILTO:taize@paroissejoinvillelepont.fr
END:VEVENT
BEGIN:VEVENT
DTSTART;TZID=Europe/Paris:20160226T203000
DTEND;TZID=Europe/Paris:20160226T203000
DTSTAMP:20260424T185541
CREATED:20160203T131134Z
LAST-MODIFIED:20160326T144859Z
UID:1268-1456518600-1456518600@paroissejoinvillelepont.fr
SUMMARY:Vendredis de Carême : Le péché\, surdité à Dieu
DESCRIPTION:Cycle de questions et de partage sur des thématiques. Pour plus de détails
URL:https://paroissejoinvillelepont.fr/evenement/careme-le-livre-de-lexode-2016-02-26/
LOCATION:Saint Charles Borromée\, 5 rue de Paris\, Joinville-le-Pont\, 94340\, France
CATEGORIES:Rassemblements et rencontres
ORGANIZER;CN="P%C3%A8re%20Gr%C3%A9goire%20Bellut":MAILTO:pgbellut@paroissejoinvillelepont.fr
END:VEVENT
BEGIN:VEVENT
DTSTART;TZID=Europe/Paris:20160229T190000
DTEND;TZID=Europe/Paris:20160229T210000
DTSTAMP:20260424T185541
CREATED:20160109T141806Z
LAST-MODIFIED:20160109T141806Z
UID:1210-1456772400-1456779600@paroissejoinvillelepont.fr
SUMMARY:Soupe fraternelle
DESCRIPTION:Du 7 décembre au 21 mars\, les paroisses de Saint-Charles et de sainte-Anne de Polangis à Joinville offrent aux personnes qui se sentent seules ou qui ont de petits moyens\, une soupe fraternelle\, tous les lundis de 19h à 21h. \nSalle Saint-Jean XXIII\, cour de l’église Saint-Charles
URL:https://paroissejoinvillelepont.fr/evenement/soupe-solidaire-3-2016-02-29/
CATEGORIES:Rassemblements et rencontres
END:VEVENT
END:VCALENDAR