BEGIN:VCALENDAR
VERSION:2.0
PRODID:-//Paroisse Sainte Anne de Polangis - Joinville le Pont - ECPv5.16.1.1//NONSGML v1.0//EN
CALSCALE:GREGORIAN
METHOD:PUBLISH
X-WR-CALNAME:Paroisse Sainte Anne de Polangis - Joinville le Pont
X-ORIGINAL-URL:https://paroissejoinvillelepont.fr
X-WR-CALDESC:évènements pour Paroisse Sainte Anne de Polangis - Joinville le Pont
REFRESH-INTERVAL;VALUE=DURATION:PT1H
X-Robots-Tag:noindex
X-PUBLISHED-TTL:PT1H
BEGIN:VTIMEZONE
TZID:Europe/Paris
BEGIN:DAYLIGHT
TZOFFSETFROM:+0100
TZOFFSETTO:+0200
TZNAME:CEST
DTSTART:20160327T010000
END:DAYLIGHT
BEGIN:STANDARD
TZOFFSETFROM:+0200
TZOFFSETTO:+0100
TZNAME:CET
DTSTART:20161030T010000
END:STANDARD
END:VTIMEZONE
BEGIN:VEVENT
DTSTART;TZID=Europe/Paris:20160111T190000
DTEND;TZID=Europe/Paris:20160111T210000
DTSTAMP:20260424T202018
CREATED:20160109T141501Z
LAST-MODIFIED:20160110T174115Z
UID:907-1452538800-1452546000@paroissejoinvillelepont.fr
SUMMARY:Soupe fraternelle
DESCRIPTION:Du 7 décembre au 21 mars\, les paroisses de Saint-Charles et de sainte-Anne de Polangis à Joinville offrent aux personnes qui se sentent seules ou qui ont de petits moyens\, une soupe fraternelle\, tous les lundis de 19h à 21h. \nSalle Saint-Jean XXIII\, cour de l’église Saint-Charles
URL:https://paroissejoinvillelepont.fr/evenement/soupe-solidaire/
LOCATION:Saint Charles Borromée\, 5 rue de Paris\, Joinville-le-Pont\, 94340\, France
CATEGORIES:Rassemblements et rencontres
END:VEVENT
BEGIN:VEVENT
DTSTART;TZID=Europe/Paris:20160113T203000
DTEND;TZID=Europe/Paris:20160113T220000
DTSTAMP:20260424T202018
CREATED:20160108T141848Z
LAST-MODIFIED:20160108T144236Z
UID:899-1452717000-1452722400@paroissejoinvillelepont.fr
SUMMARY:Groupe "Parole de Dieu"
DESCRIPTION:Lecture et partage autour de la montée d’Isaac (Genèse\, ch. 22) \nSalle Saint-Marc
URL:https://paroissejoinvillelepont.fr/evenement/reunion-du-groupe-parole-de-dieu/
LOCATION:Saint Charles Borromée\, 5 rue de Paris\, Joinville-le-Pont\, 94340\, France
CATEGORIES:Rassemblements et rencontres
ORGANIZER;CN="Philippe%20Brillault":MAILTO:parolededieu@paroissejoinvillelepont.fr
END:VEVENT
BEGIN:VEVENT
DTSTART;TZID=Europe/Paris:20160118T190000
DTEND;TZID=Europe/Paris:20160118T210000
DTSTAMP:20260424T202018
CREATED:20160109T141709Z
LAST-MODIFIED:20160110T174156Z
UID:912-1453143600-1453150800@paroissejoinvillelepont.fr
SUMMARY:Soupe fraternelle
DESCRIPTION:Du 7 décembre au 21 mars\, les paroisses de Saint-Charles et de sainte-Anne de Polangis à Joinville offrent aux personnes qui se sentent seules ou qui ont de petits moyens\, une soupe fraternelle\, tous les lundis de 19h à 21h. \nSalle Saint-Jean XXIII\, cour de l’église Saint-Charles
URL:https://paroissejoinvillelepont.fr/evenement/soupe-solidaire-2/
CATEGORIES:Rassemblements et rencontres
END:VEVENT
BEGIN:VEVENT
DTSTART;TZID=Europe/Paris:20160125T190000
DTEND;TZID=Europe/Paris:20160125T210000
DTSTAMP:20260424T202018
CREATED:20160109T141806Z
LAST-MODIFIED:20160124T141321Z
UID:915-1453748400-1453755600@paroissejoinvillelepont.fr
SUMMARY:Soupe fraternelle
DESCRIPTION:Du 7 décembre au 21 mars\, les paroisses de Saint-Charles et de sainte-Anne de Polangis à Joinville offrent aux personnes qui se sentent seules ou qui ont de petits moyens\, une soupe fraternelle\, tous les lundis de 19h à 21h. \nSalle Saint-Jean XXIII\, cour de l’église Saint-Charles
URL:https://paroissejoinvillelepont.fr/evenement/soupe-solidaire-3/
CATEGORIES:Rassemblements et rencontres
END:VEVENT
BEGIN:VEVENT
DTSTART;TZID=Europe/Paris:20160129T190000
DTEND;TZID=Europe/Paris:20160129T223000
DTSTAMP:20260424T202019
CREATED:20160124T134132Z
LAST-MODIFIED:20160124T134630Z
UID:1188-1454094000-1454106600@paroissejoinvillelepont.fr
SUMMARY:Prière des jeunes de Taizé
DESCRIPTION:Le dernier vendredi de chaque mois\, à Saint-Charles : 19h messe suivie d’un repas partagé entre jeunes
URL:https://paroissejoinvillelepont.fr/evenement/priere-des-jeunes-de-taize/
LOCATION:Saint Charles Borromée\, 5 rue de Paris\, Joinville-le-Pont\, 94340\, France
CATEGORIES:Rassemblements et rencontres
ATTACH;FMTTYPE=image/png:https://paroissejoinvillelepont.fr/wp-content/uploads/2016/01/logo-communaute-taize.png
ORGANIZER;CN="Unnamed%20Organisateur":MAILTO:taize@paroissejoinvillelepont.fr
END:VEVENT
BEGIN:VEVENT
DTSTART;TZID=Europe/Paris:20160130T160000
DTEND;TZID=Europe/Paris:20160130T170000
DTSTAMP:20260424T202019
CREATED:20160124T135516Z
LAST-MODIFIED:20160124T135516Z
UID:1198-1454169600-1454173200@paroissejoinvillelepont.fr
SUMMARY:Fête des communautés : répétition des chants
DESCRIPTION:Pour bien préparer la messe du 7 janvier. Rendez-vous à la salle paroissiale
URL:https://paroissejoinvillelepont.fr/evenement/fete-des-communautes-repetition-des-chants/
LOCATION:Saint Charles Borromée\, 5 rue de Paris\, Joinville-le-Pont\, 94340\, France
CATEGORIES:Rassemblements et rencontres
END:VEVENT
END:VCALENDAR