BEGIN:VCALENDAR
VERSION:2.0
PRODID:-//Paroisse Sainte Anne de Polangis - Joinville le Pont - ECPv5.16.1.1//NONSGML v1.0//EN
CALSCALE:GREGORIAN
METHOD:PUBLISH
X-WR-CALNAME:Paroisse Sainte Anne de Polangis - Joinville le Pont
X-ORIGINAL-URL:https://paroissejoinvillelepont.fr
X-WR-CALDESC:évènements pour Paroisse Sainte Anne de Polangis - Joinville le Pont
REFRESH-INTERVAL;VALUE=DURATION:PT1H
X-Robots-Tag:noindex
X-PUBLISHED-TTL:PT1H
BEGIN:VTIMEZONE
TZID:Europe/Paris
BEGIN:DAYLIGHT
TZOFFSETFROM:+0100
TZOFFSETTO:+0200
TZNAME:CEST
DTSTART:20160327T010000
END:DAYLIGHT
BEGIN:STANDARD
TZOFFSETFROM:+0200
TZOFFSETTO:+0100
TZNAME:CET
DTSTART:20161030T010000
END:STANDARD
END:VTIMEZONE
BEGIN:VEVENT
DTSTART;TZID=Europe/Paris:20160403T090000
DTEND;TZID=Europe/Paris:20160403T120000
DTSTAMP:20260423T031740
CREATED:20151130T064606Z
LAST-MODIFIED:20151130T064606Z
UID:341-1459674000-1459684800@paroissejoinvillelepont.fr
SUMMARY:Journée de la Miséricorde
DESCRIPTION:
URL:https://paroissejoinvillelepont.fr/evenement/journee-de-la-misericorde/
LOCATION:Saint Charles Borromée\, 5 rue de Paris\, Joinville-le-Pont\, 94340\, France
CATEGORIES:Messes et célébrations
END:VEVENT
BEGIN:VEVENT
DTSTART;TZID=Europe/Paris:20160403T093000
DTEND;TZID=Europe/Paris:20160403T110000
DTSTAMP:20260423T031740
CREATED:20160326T145203Z
LAST-MODIFIED:20160326T145203Z
UID:1646-1459675800-1459681200@paroissejoinvillelepont.fr
SUMMARY:Baptême des jeunes catéchumènes
DESCRIPTION:Baptême des jeunes catéchumènes\nDimanche 3 avril à 9 h 30 à St Charles
URL:https://paroissejoinvillelepont.fr/evenement/bapteme-des-jeunes-catechumenes/
LOCATION:Saint Charles Borromée\, 5 rue de Paris\, Joinville-le-Pont\, 94340\, France
CATEGORIES:Messes et célébrations
END:VEVENT
END:VCALENDAR