BEGIN:VCALENDAR
VERSION:2.0
PRODID:-//Paroisse Sainte Anne de Polangis - Joinville le Pont - ECPv5.16.1.1//NONSGML v1.0//EN
CALSCALE:GREGORIAN
METHOD:PUBLISH
X-WR-CALNAME:Paroisse Sainte Anne de Polangis - Joinville le Pont
X-ORIGINAL-URL:https://paroissejoinvillelepont.fr
X-WR-CALDESC:évènements pour Paroisse Sainte Anne de Polangis - Joinville le Pont
REFRESH-INTERVAL;VALUE=DURATION:PT1H
X-Robots-Tag:noindex
X-PUBLISHED-TTL:PT1H
BEGIN:VTIMEZONE
TZID:Europe/Paris
BEGIN:DAYLIGHT
TZOFFSETFROM:+0100
TZOFFSETTO:+0200
TZNAME:CEST
DTSTART:20180325T010000
END:DAYLIGHT
BEGIN:STANDARD
TZOFFSETFROM:+0200
TZOFFSETTO:+0100
TZNAME:CET
DTSTART:20181028T010000
END:STANDARD
END:VTIMEZONE
BEGIN:VEVENT
DTSTART;TZID=Europe/Paris:20180204T110000
DTEND;TZID=Europe/Paris:20180204T123000
DTSTAMP:20260421T120754
CREATED:20180130T162803Z
LAST-MODIFIED:20180130T162803Z
UID:3819-1517742000-1517747400@paroissejoinvillelepont.fr
SUMMARY:Messe des communautés
DESCRIPTION:
URL:https://paroissejoinvillelepont.fr/evenement/messe-des-communautes/
LOCATION:Saint Charles Borromée\, 5 rue de Paris\, Joinville-le-Pont\, 94340\, France
CATEGORIES:Messes et célébrations
END:VEVENT
BEGIN:VEVENT
DTSTART;TZID=Europe/Paris:20180205T200000
DTEND;TZID=Europe/Paris:20180205T213000
DTSTAMP:20260421T120754
CREATED:20180130T163239Z
LAST-MODIFIED:20180130T163239Z
UID:3823-1517860800-1517866200@paroissejoinvillelepont.fr
SUMMARY:Prière d’adoration et de guérison
DESCRIPTION:
URL:https://paroissejoinvillelepont.fr/evenement/priere-dadoration-et-de-guerison-7/
LOCATION:Saint Charles Borromée\, 5 rue de Paris\, Joinville-le-Pont\, 94340\, France
CATEGORIES:Messes et célébrations
END:VEVENT
BEGIN:VEVENT
DTSTART;TZID=Europe/Paris:20180212T200000
DTEND;TZID=Europe/Paris:20180212T213000
DTSTAMP:20260421T120754
CREATED:20180130T163450Z
LAST-MODIFIED:20180130T163450Z
UID:3826-1518465600-1518471000@paroissejoinvillelepont.fr
SUMMARY:Parcours Effusion de l’Esprit Saint
DESCRIPTION:5ème séance : Conversion- Guérison
URL:https://paroissejoinvillelepont.fr/evenement/parcours-effusion-de-lesprit-saint/
LOCATION:Saint Charles Borromée\, 5 rue de Paris\, Joinville-le-Pont\, 94340\, France
CATEGORIES:Messes et célébrations
END:VEVENT
BEGIN:VEVENT
DTSTART;VALUE=DATE:20180214
DTEND;VALUE=DATE:20180215
DTSTAMP:20260421T120754
CREATED:20180130T163839Z
LAST-MODIFIED:20180130T164827Z
UID:3828-1518566400-1518652799@paroissejoinvillelepont.fr
SUMMARY:Mercredi des Cendres
DESCRIPTION:Horaires et lieux des messes
URL:https://paroissejoinvillelepont.fr/evenement/mercredi-des-cendres-2/
CATEGORIES:Messes et célébrations
END:VEVENT
END:VCALENDAR