BEGIN:VCALENDAR
VERSION:2.0
PRODID:-//Paroisse Sainte Anne de Polangis - Joinville le Pont - ECPv5.16.1.1//NONSGML v1.0//EN
CALSCALE:GREGORIAN
METHOD:PUBLISH
X-ORIGINAL-URL:https://paroissejoinvillelepont.fr
X-WR-CALDESC:évènements pour Paroisse Sainte Anne de Polangis - Joinville le Pont
REFRESH-INTERVAL;VALUE=DURATION:PT1H
X-Robots-Tag:noindex
X-PUBLISHED-TTL:PT1H
BEGIN:VTIMEZONE
TZID:Europe/Paris
BEGIN:DAYLIGHT
TZOFFSETFROM:+0100
TZOFFSETTO:+0200
TZNAME:CEST
DTSTART:20160327T010000
END:DAYLIGHT
BEGIN:STANDARD
TZOFFSETFROM:+0200
TZOFFSETTO:+0100
TZNAME:CET
DTSTART:20161030T010000
END:STANDARD
END:VTIMEZONE
BEGIN:VEVENT
DTSTART;TZID=Europe/Paris:20161009T104500
DTEND;TZID=Europe/Paris:20161009T120000
DTSTAMP:20260422T164153
CREATED:20160921T123527Z
LAST-MODIFIED:20161003T153718Z
UID:2168-1476009900-1476014400@paroissejoinvillelepont.fr
SUMMARY:Eveil à la foi
DESCRIPTION:Messe
URL:https://paroissejoinvillelepont.fr/evenement/eveil-a-la-foi-2/
CATEGORIES:Messes et célébrations
END:VEVENT
BEGIN:VEVENT
DTSTART;TZID=Europe/Paris:20161009T110000
DTEND;TZID=Europe/Paris:20161009T120000
DTSTAMP:20260422T164153
CREATED:20160619T145038Z
LAST-MODIFIED:20160619T145038Z
UID:2011-1476010800-1476014400@paroissejoinvillelepont.fr
SUMMARY:KT 2016-2017 : Messe de rentrée
DESCRIPTION:
URL:https://paroissejoinvillelepont.fr/evenement/kt-2016-2017-messe-de-rentree/
CATEGORIES:Messes et célébrations
END:VEVENT
BEGIN:VEVENT
DTSTART;TZID=Europe/Paris:20161015T190000
DTEND;TZID=Europe/Paris:20161015T200000
DTSTAMP:20260422T164153
CREATED:20160923T083136Z
LAST-MODIFIED:20160923T083136Z
UID:2177-1476558000-1476561600@paroissejoinvillelepont.fr
SUMMARY:Messe anticipée à Sainte-Anne
DESCRIPTION:Remplace la messe du dimanche à 11h00 (50 ans du Diocèse)
URL:https://paroissejoinvillelepont.fr/evenement/messe-anticipee-a-sainte-anne/
LOCATION:Sainte Anne de Polangis\, 64 rue Oudinot\, Joinville-le-Pont\, 94340\, France
CATEGORIES:Messes et célébrations
END:VEVENT
END:VCALENDAR