BEGIN:VCALENDAR
VERSION:2.0
PRODID:-//Paroisse Sainte Anne de Polangis - Joinville le Pont - ECPv5.16.1.1//NONSGML v1.0//EN
CALSCALE:GREGORIAN
METHOD:PUBLISH
X-WR-CALNAME:Paroisse Sainte Anne de Polangis - Joinville le Pont
X-ORIGINAL-URL:https://paroissejoinvillelepont.fr
X-WR-CALDESC:évènements pour Paroisse Sainte Anne de Polangis - Joinville le Pont
REFRESH-INTERVAL;VALUE=DURATION:PT1H
X-Robots-Tag:noindex
X-PUBLISHED-TTL:PT1H
BEGIN:VTIMEZONE
TZID:Europe/Paris
BEGIN:DAYLIGHT
TZOFFSETFROM:+0100
TZOFFSETTO:+0200
TZNAME:CEST
DTSTART:20160327T010000
END:DAYLIGHT
BEGIN:STANDARD
TZOFFSETFROM:+0200
TZOFFSETTO:+0100
TZNAME:CET
DTSTART:20161030T010000
END:STANDARD
END:VTIMEZONE
BEGIN:VEVENT
DTSTART;TZID=Europe/Paris:20160301T190000
DTEND;TZID=Europe/Paris:20160301T210000
DTSTAMP:20260423T031142
CREATED:20160203T133409Z
LAST-MODIFIED:20160208T111308Z
UID:1277-1456858800-1456866000@paroissejoinvillelepont.fr
SUMMARY:Carême : Prière d'adoration et d'intercession
DESCRIPTION:Messe\, temps d’adoration suivi d’un enseignement
URL:https://paroissejoinvillelepont.fr/evenement/careme-2016-03-01/
LOCATION:Saint Charles Borromée\, 5 rue de Paris\, Joinville-le-Pont\, 94340\, France
CATEGORIES:Messes et célébrations
ORGANIZER;CN="P%C3%A8re%20Gr%C3%A9goire%20Bellut":MAILTO:pgbellut@paroissejoinvillelepont.fr
END:VEVENT
BEGIN:VEVENT
DTSTART;TZID=Europe/Paris:20160301T200000
DTEND;TZID=Europe/Paris:20160301T210000
DTSTAMP:20260423T031142
CREATED:20160124T135900Z
LAST-MODIFIED:20160124T140418Z
UID:1201-1456862400-1456866000@paroissejoinvillelepont.fr
SUMMARY:Prière d'adoration et de guérison
DESCRIPTION:Tous les premiers mardi de chaque mois. Saint-Charles\, 20h00
URL:https://paroissejoinvillelepont.fr/evenement/priere-dadoration-et-de-guerison-2-2016-03-02/
LOCATION:Saint Charles Borromée\, 5 rue de Paris\, Joinville-le-Pont\, 94340\, France
CATEGORIES:Messes et célébrations
END:VEVENT
BEGIN:VEVENT
DTSTART;TZID=Europe/Paris:20160306T140000
DTEND;TZID=Europe/Paris:20160306T190000
DTSTAMP:20260423T031142
CREATED:20160131T180757Z
LAST-MODIFIED:20160131T180757Z
UID:1228-1457272800-1457290800@paroissejoinvillelepont.fr
SUMMARY:Journée du Pardon diocésaine
DESCRIPTION:
URL:https://paroissejoinvillelepont.fr/evenement/journee-du-pardon-diocesaine/
LOCATION:Cathédrale de Créteil\, 2 Rue Pasteur Vallery Radot\, Créteil\, 94000\, France
CATEGORIES:Messes et célébrations
END:VEVENT
BEGIN:VEVENT
DTSTART;TZID=Europe/Paris:20160307T190000
DTEND;TZID=Europe/Paris:20160307T210000
DTSTAMP:20260423T031142
CREATED:20160203T132848Z
LAST-MODIFIED:20160208T110648Z
UID:1274-1457377200-1457384400@paroissejoinvillelepont.fr
SUMMARY:Stop Etape. Lecture de la Bible
DESCRIPTION:Messe à 19h00\, temps d’adoration suivi d’un temps de discussion autour de la lecture continue de la Bible proposée pendant le Carême. Lien vers le tableau des lectures
URL:https://paroissejoinvillelepont.fr/evenement/stop-etape-lecture-de-la-bible-2016-03-07/
LOCATION:Saint Charles Borromée\, 5 rue de Paris\, Joinville-le-Pont\, 94340\, France
CATEGORIES:Messes et célébrations
ORGANIZER;CN="P%C3%A8re%20Gr%C3%A9goire%20Bellut":MAILTO:pgbellut@paroissejoinvillelepont.fr
END:VEVENT
BEGIN:VEVENT
DTSTART;TZID=Europe/Paris:20160312T090000
DTEND;TZID=Europe/Paris:20160312T180000
DTSTAMP:20260423T031142
CREATED:20160131T180929Z
LAST-MODIFIED:20160131T180929Z
UID:1230-1457773200-1457805600@paroissejoinvillelepont.fr
SUMMARY:Journée du Pardon paroissiale
DESCRIPTION:
URL:https://paroissejoinvillelepont.fr/evenement/journee-du-pardon-paroissiale/
LOCATION:Saint Charles Borromée\, 5 rue de Paris\, Joinville-le-Pont\, 94340\, France
CATEGORIES:Messes et célébrations
END:VEVENT
BEGIN:VEVENT
DTSTART;TZID=Europe/Paris:20160313T190000
DTEND;TZID=Europe/Paris:20160313T200000
DTSTAMP:20260423T031142
CREATED:20151115T150651Z
LAST-MODIFIED:20151115T150651Z
UID:299-1457895600-1457899200@paroissejoinvillelepont.fr
SUMMARY:messe des Jeunes
DESCRIPTION:
URL:https://paroissejoinvillelepont.fr/evenement/messe-des-jeunes-4/
LOCATION:Saint Charles Borromée\, 5 rue de Paris\, Joinville-le-Pont\, 94340\, France
CATEGORIES:Messes et célébrations
END:VEVENT
BEGIN:VEVENT
DTSTART;TZID=Europe/Paris:20160314T190000
DTEND;TZID=Europe/Paris:20160314T210000
DTSTAMP:20260423T031142
CREATED:20160203T132848Z
LAST-MODIFIED:20160208T110648Z
UID:1275-1457982000-1457989200@paroissejoinvillelepont.fr
SUMMARY:Stop Etape. Lecture de la Bible
DESCRIPTION:Messe à 19h00\, temps d’adoration suivi d’un temps de discussion autour de la lecture continue de la Bible proposée pendant le Carême. Lien vers le tableau des lectures
URL:https://paroissejoinvillelepont.fr/evenement/stop-etape-lecture-de-la-bible-2016-03-14/
LOCATION:Saint Charles Borromée\, 5 rue de Paris\, Joinville-le-Pont\, 94340\, France
CATEGORIES:Messes et célébrations
ORGANIZER;CN="P%C3%A8re%20Gr%C3%A9goire%20Bellut":MAILTO:pgbellut@paroissejoinvillelepont.fr
END:VEVENT
BEGIN:VEVENT
DTSTART;TZID=Europe/Paris:20160315T190000
DTEND;TZID=Europe/Paris:20160315T210000
DTSTAMP:20260423T031142
CREATED:20160203T133409Z
LAST-MODIFIED:20160208T111308Z
UID:1278-1458068400-1458075600@paroissejoinvillelepont.fr
SUMMARY:Carême : Prière d'adoration et d'intercession
DESCRIPTION:Messe\, temps d’adoration suivi d’un enseignement
URL:https://paroissejoinvillelepont.fr/evenement/careme-2016-03-15/
LOCATION:Saint Charles Borromée\, 5 rue de Paris\, Joinville-le-Pont\, 94340\, France
CATEGORIES:Messes et célébrations
ORGANIZER;CN="P%C3%A8re%20Gr%C3%A9goire%20Bellut":MAILTO:pgbellut@paroissejoinvillelepont.fr
END:VEVENT
BEGIN:VEVENT
DTSTART;TZID=Europe/Paris:20160319T180000
DTEND;TZID=Europe/Paris:20160319T190000
DTSTAMP:20260423T031142
CREATED:20151130T065934Z
LAST-MODIFIED:20160317T162342Z
UID:355-1458410400-1458414000@paroissejoinvillelepont.fr
SUMMARY:Messe Gospel
DESCRIPTION:Animée par le groupe Ephraïm.
URL:https://paroissejoinvillelepont.fr/evenement/messe-ephraim-8/
LOCATION:Saint Charles Borromée\, 5 rue de Paris\, Joinville-le-Pont\, 94340\, France
CATEGORIES:Messes et célébrations
END:VEVENT
BEGIN:VEVENT
DTSTART;TZID=Europe/Paris:20160320T110000
DTEND;TZID=Europe/Paris:20160320T120000
DTSTAMP:20260423T031142
CREATED:20160317T110813Z
LAST-MODIFIED:20160317T110813Z
UID:1464-1458471600-1458475200@paroissejoinvillelepont.fr
SUMMARY:Messe des Rameaux en portugais
DESCRIPTION:
URL:https://paroissejoinvillelepont.fr/evenement/messe-des-rameaux-en-portugais/
LOCATION:Saint Charles Borromée\, 5 rue de Paris\, Joinville-le-Pont\, 94340\, France
CATEGORIES:Messes et célébrations
END:VEVENT
BEGIN:VEVENT
DTSTART;TZID=Europe/Paris:20160321T190000
DTEND;TZID=Europe/Paris:20160321T210000
DTSTAMP:20260423T031142
CREATED:20160131T185200Z
LAST-MODIFIED:20160131T192730Z
UID:1235-1458586800-1458594000@paroissejoinvillelepont.fr
SUMMARY:messe Chrismale
DESCRIPTION:au Palais des Sports de Créteil
URL:https://paroissejoinvillelepont.fr/evenement/messe-chrismale/
LOCATION:Cathédrale de Créteil\, 2 Rue Pasteur Vallery Radot\, Créteil\, 94000\, France
CATEGORIES:Messes et célébrations
END:VEVENT
BEGIN:VEVENT
DTSTART;TZID=Europe/Paris:20160324T190000
DTEND;TZID=Europe/Paris:20160324T203000
DTSTAMP:20260423T031142
CREATED:20160317T165358Z
LAST-MODIFIED:20160317T165358Z
UID:1471-1458846000-1458851400@paroissejoinvillelepont.fr
SUMMARY:Messe Ste-Anne
DESCRIPTION:avec les enfants du catéchisme
URL:https://paroissejoinvillelepont.fr/evenement/messe-ste-anne/
LOCATION:Sainte Anne de Polangis\, 64 rue Oudinot\, Joinville-le-Pont\, 94340\, France
CATEGORIES:Messes et célébrations
END:VEVENT
BEGIN:VEVENT
DTSTART;TZID=Europe/Paris:20160324T190000
DTEND;TZID=Europe/Paris:20160324T203000
DTSTAMP:20260423T031142
CREATED:20160317T172131Z
LAST-MODIFIED:20160323T184446Z
UID:1472-1458846000-1458851400@paroissejoinvillelepont.fr
SUMMARY:Messe Saints-Anges Gardiens
DESCRIPTION:Suivie de l’Adoration du Saint-Sacrement
URL:https://paroissejoinvillelepont.fr/evenement/messe-suivie-de-ladoration/
CATEGORIES:Messes et célébrations
END:VEVENT
BEGIN:VEVENT
DTSTART;TZID=Europe/Paris:20160324T203000
DTEND;TZID=Europe/Paris:20160324T230000
DTSTAMP:20260423T031142
CREATED:20160317T165240Z
LAST-MODIFIED:20160323T184202Z
UID:1470-1458851400-1458860400@paroissejoinvillelepont.fr
SUMMARY:Messe St-Charles
DESCRIPTION:Messe suivie d’une veillée d’adoration du Saint-Sacrement
URL:https://paroissejoinvillelepont.fr/evenement/messe-st-charles/
LOCATION:Saint Charles Borromée\, 5 rue de Paris\, Joinville-le-Pont\, 94340\, France
CATEGORIES:Messes et célébrations
END:VEVENT
BEGIN:VEVENT
DTSTART;TZID=Europe/Paris:20160325T150000
DTEND;TZID=Europe/Paris:20160325T160000
DTSTAMP:20260423T031142
CREATED:20160319T112023Z
LAST-MODIFIED:20160319T112054Z
UID:1475-1458918000-1458921600@paroissejoinvillelepont.fr
SUMMARY:Chemins de croix
DESCRIPTION:Dans les trois églises : Saint-Charles Borromée\, Sainte-Anne de Polangis et aux Saints Anges-Gardiens de Saint-Maurice
URL:https://paroissejoinvillelepont.fr/evenement/chemins-de-croix/
CATEGORIES:Messes et célébrations
END:VEVENT
BEGIN:VEVENT
DTSTART;TZID=Europe/Paris:20160325T190000
DTEND;TZID=Europe/Paris:20160325T203000
DTSTAMP:20260423T031142
CREATED:20160319T112237Z
LAST-MODIFIED:20160319T112237Z
UID:1476-1458932400-1458937800@paroissejoinvillelepont.fr
SUMMARY:Chemin de croix en pélerinage
DESCRIPTION:Départ de Sainte-Anne vers Saint-Charles
URL:https://paroissejoinvillelepont.fr/evenement/chemin-de-croix-en-pelerinage/
LOCATION:Sainte Anne de Polangis\, 64 rue Oudinot\, Joinville-le-Pont\, 94340\, France
CATEGORIES:Messes et célébrations
END:VEVENT
BEGIN:VEVENT
DTSTART;TZID=Europe/Paris:20160325T203000
DTEND;TZID=Europe/Paris:20160325T213000
DTSTAMP:20260423T031142
CREATED:20160319T112347Z
LAST-MODIFIED:20160319T112347Z
UID:1477-1458937800-1458941400@paroissejoinvillelepont.fr
SUMMARY:Office du Vendredi Saint
DESCRIPTION:
URL:https://paroissejoinvillelepont.fr/evenement/office-du-vendredi-saint/
LOCATION:Saint Charles Borromée\, 5 rue de Paris\, Joinville-le-Pont\, 94340\, France
CATEGORIES:Messes et célébrations
END:VEVENT
BEGIN:VEVENT
DTSTART;TZID=Europe/Paris:20160326T110000
DTEND;TZID=Europe/Paris:20160326T120000
DTSTAMP:20260423T031142
CREATED:20160319T112550Z
LAST-MODIFIED:20160319T112606Z
UID:1478-1458990000-1458993600@paroissejoinvillelepont.fr
SUMMARY:Samedi Saint. Bénédiction polonaise
DESCRIPTION:Saint-Charles
URL:https://paroissejoinvillelepont.fr/evenement/samedi-saint-benediction-polonaise/
LOCATION:Saint Charles Borromée\, 5 rue de Paris\, Joinville-le-Pont\, 94340\, France
CATEGORIES:Messes et célébrations
END:VEVENT
BEGIN:VEVENT
DTSTART;TZID=Europe/Paris:20160326T200000
DTEND;TZID=Europe/Paris:20160326T220000
DTSTAMP:20260423T031142
CREATED:20160319T140304Z
LAST-MODIFIED:20160319T140657Z
UID:1480-1459022400-1459029600@paroissejoinvillelepont.fr
SUMMARY:Vigile pascale. Sainte-Anne
DESCRIPTION:
URL:https://paroissejoinvillelepont.fr/evenement/vigile-pascale-sainte-anne/
LOCATION:Sainte Anne de Polangis\, 64 rue Oudinot\, Joinville-le-Pont\, 94340\, France
CATEGORIES:Messes et célébrations
END:VEVENT
BEGIN:VEVENT
DTSTART;TZID=Europe/Paris:20160326T203000
DTEND;TZID=Europe/Paris:20160326T223000
DTSTAMP:20260423T031142
CREATED:20160319T140532Z
LAST-MODIFIED:20160319T140532Z
UID:1481-1459024200-1459031400@paroissejoinvillelepont.fr
SUMMARY:Vigile pascale. Saints-Anges Gardiens
DESCRIPTION:
URL:https://paroissejoinvillelepont.fr/evenement/vigile-pascale-saints-anges-gardiens/
CATEGORIES:Messes et célébrations
END:VEVENT
BEGIN:VEVENT
DTSTART;TZID=Europe/Paris:20160326T210000
DTEND;TZID=Europe/Paris:20160326T230000
DTSTAMP:20260423T031142
CREATED:20160319T112703Z
LAST-MODIFIED:20160319T140625Z
UID:1479-1459026000-1459033200@paroissejoinvillelepont.fr
SUMMARY:Vigile pascale. Saint-Charles
DESCRIPTION:
URL:https://paroissejoinvillelepont.fr/evenement/vigile-pascale-saint-charles/
LOCATION:Saint Charles Borromée\, 5 rue de Paris\, Joinville-le-Pont\, 94340\, France
CATEGORIES:Messes et célébrations
END:VEVENT
BEGIN:VEVENT
DTSTART;TZID=Europe/Paris:20160327T093000
DTEND;TZID=Europe/Paris:20160327T103000
DTSTAMP:20260423T031142
CREATED:20160118T212531Z
LAST-MODIFIED:20160206T100237Z
UID:1078-1459071000-1459074600@paroissejoinvillelepont.fr
SUMMARY:Messe Dominicale St Charles
DESCRIPTION:Sauf cas exceptionnel\, la célébration de la messe à Saint-Charles a lieu le dimanche à 9h30.
URL:https://paroissejoinvillelepont.fr/evenement/messe-dominicale-2016-03-27/
LOCATION:Saint Charles Borromée\, 5 rue de Paris\, Joinville-le-Pont\, 94340\, France
CATEGORIES:Messes et célébrations
ATTACH;FMTTYPE=image/jpeg:https://paroissejoinvillelepont.fr/wp-content/uploads/2015/11/paroisse-joinville-saint-charles.jpg
END:VEVENT
BEGIN:VEVENT
DTSTART;TZID=Europe/Paris:20160327T110000
DTEND;TZID=Europe/Paris:20160327T120000
DTSTAMP:20260423T031142
CREATED:20160118T212752Z
LAST-MODIFIED:20160322T215222Z
UID:1127-1459076400-1459080000@paroissejoinvillelepont.fr
SUMMARY:Messe Dominicale Sainte Anne
DESCRIPTION:Sauf cas exceptionnel\, la célébration de la messe à Sainte-Anne a lieu le dimanche à 11h00.
URL:https://paroissejoinvillelepont.fr/evenement/messe-dominicale-2-2016-03-27/
LOCATION:Sainte Anne de Polangis\, 64 rue Oudinot\, Joinville-le-Pont\, 94340\, France
CATEGORIES:Messes et célébrations
ATTACH;FMTTYPE=image/jpeg:https://paroissejoinvillelepont.fr/wp-content/uploads/2015/11/paroisse-joinville-sainte-anne.jpg
END:VEVENT
BEGIN:VEVENT
DTSTART;TZID=Europe/Paris:20160327T111500
DTEND;TZID=Europe/Paris:20160327T121500
DTSTAMP:20260423T031142
CREATED:20160319T141151Z
LAST-MODIFIED:20160319T141151Z
UID:1484-1459077300-1459080900@paroissejoinvillelepont.fr
SUMMARY:Messe Saints-Anges Gardiens
DESCRIPTION:
URL:https://paroissejoinvillelepont.fr/evenement/messe-saints-anges-gardiens/
CATEGORIES:Messes et célébrations
END:VEVENT
END:VCALENDAR