BEGIN:VCALENDAR
VERSION:2.0
PRODID:-//Paroisse Sainte Anne de Polangis - Joinville le Pont - ECPv5.16.1.1//NONSGML v1.0//EN
CALSCALE:GREGORIAN
METHOD:PUBLISH
X-WR-CALNAME:Paroisse Sainte Anne de Polangis - Joinville le Pont
X-ORIGINAL-URL:https://paroissejoinvillelepont.fr
X-WR-CALDESC:évènements pour Paroisse Sainte Anne de Polangis - Joinville le Pont
REFRESH-INTERVAL;VALUE=DURATION:PT1H
X-Robots-Tag:noindex
X-PUBLISHED-TTL:PT1H
BEGIN:VTIMEZONE
TZID:Europe/Paris
BEGIN:DAYLIGHT
TZOFFSETFROM:+0100
TZOFFSETTO:+0200
TZNAME:CEST
DTSTART:20160327T010000
END:DAYLIGHT
BEGIN:STANDARD
TZOFFSETFROM:+0200
TZOFFSETTO:+0100
TZNAME:CET
DTSTART:20161030T010000
END:STANDARD
END:VTIMEZONE
BEGIN:VEVENT
DTSTART;TZID=Europe/Paris:20160202T200000
DTEND;TZID=Europe/Paris:20160202T210000
DTSTAMP:20260423T044822
CREATED:20160124T135900Z
LAST-MODIFIED:20160124T135900Z
UID:1200-1454443200-1454446800@paroissejoinvillelepont.fr
SUMMARY:Prière d'adoration et de guérison
DESCRIPTION:Tous les premiers mardi de chaque mois. Saint-Charles\, 20h00
URL:https://paroissejoinvillelepont.fr/evenement/priere-dadoration-et-de-guerison-2/
LOCATION:Saint Charles Borromée\, 5 rue de Paris\, Joinville-le-Pont\, 94340\, France
CATEGORIES:Messes et célébrations
END:VEVENT
BEGIN:VEVENT
DTSTART;TZID=Europe/Paris:20160207T110000
DTEND;TZID=Europe/Paris:20160207T120000
DTSTAMP:20260423T044822
CREATED:20151130T064429Z
LAST-MODIFIED:20151130T064429Z
UID:340-1454842800-1454846400@paroissejoinvillelepont.fr
SUMMARY:Fête des Communautés
DESCRIPTION:
URL:https://paroissejoinvillelepont.fr/evenement/fete-des-communautes/
LOCATION:Saint Charles Borromée\, 5 rue de Paris\, Joinville-le-Pont\, 94340\, France
CATEGORIES:Messes et célébrations,Rassemblements et rencontres
END:VEVENT
BEGIN:VEVENT
DTSTART;VALUE=DATE:20160210
DTEND;VALUE=DATE:20160211
DTSTAMP:20260423T044822
CREATED:20160203T134608Z
LAST-MODIFIED:20160209T172046Z
UID:1280-1455062400-1455148799@paroissejoinvillelepont.fr
SUMMARY:Mercredi des Cendres
DESCRIPTION:Début du Carême  : messes supplémentaires \n\n9h00 à Ste Anne\n18h00 à Ste Anne avec les enfants\n19h00 à St Charles\n19h00 aux Saints-Anges gardiens (Saint-Maurice)\n20h45 à St Charles
URL:https://paroissejoinvillelepont.fr/evenement/mercredi-des-cendres/
CATEGORIES:Messes et célébrations
END:VEVENT
BEGIN:VEVENT
DTSTART;TZID=Europe/Paris:20160214T190000
DTEND;TZID=Europe/Paris:20160214T200000
DTSTAMP:20260423T044822
CREATED:20151115T150442Z
LAST-MODIFIED:20151130T062958Z
UID:297-1455476400-1455480000@paroissejoinvillelepont.fr
SUMMARY:messe des Jeunes
DESCRIPTION:
URL:https://paroissejoinvillelepont.fr/evenement/messe-des-jeunes-3/
LOCATION:Saint Charles Borromée\, 5 rue de Paris\, Joinville-le-Pont\, 94340\, France
CATEGORIES:Messes et célébrations
END:VEVENT
BEGIN:VEVENT
DTSTART;TZID=Europe/Paris:20160216T190000
DTEND;TZID=Europe/Paris:20160216T210000
DTSTAMP:20260423T044822
CREATED:20160203T133409Z
LAST-MODIFIED:20160208T111307Z
UID:1276-1455649200-1455656400@paroissejoinvillelepont.fr
SUMMARY:Carême : Prière d'adoration et d'intercession
DESCRIPTION:Messe\, temps d’adoration suivi d’un enseignement
URL:https://paroissejoinvillelepont.fr/evenement/careme/
LOCATION:Saint Charles Borromée\, 5 rue de Paris\, Joinville-le-Pont\, 94340\, France
CATEGORIES:Messes et célébrations
ORGANIZER;CN="P%C3%A8re%20Gr%C3%A9goire%20Bellut":MAILTO:pgbellut@paroissejoinvillelepont.fr
END:VEVENT
BEGIN:VEVENT
DTSTART;TZID=Europe/Paris:20160222T190000
DTEND;TZID=Europe/Paris:20160222T210000
DTSTAMP:20260423T044822
CREATED:20160203T132848Z
LAST-MODIFIED:20160208T110647Z
UID:1272-1456167600-1456174800@paroissejoinvillelepont.fr
SUMMARY:Stop Etape. Lecture de la Bible
DESCRIPTION:Messe à 19h00\, temps d’adoration suivi d’un temps de discussion autour de la lecture continue de la Bible proposée pendant le Carême. Lien vers le tableau des lectures
URL:https://paroissejoinvillelepont.fr/evenement/stop-etape-lecture-de-la-bible/
LOCATION:Saint Charles Borromée\, 5 rue de Paris\, Joinville-le-Pont\, 94340\, France
CATEGORIES:Messes et célébrations
ORGANIZER;CN="P%C3%A8re%20Gr%C3%A9goire%20Bellut":MAILTO:pgbellut@paroissejoinvillelepont.fr
END:VEVENT
BEGIN:VEVENT
DTSTART;TZID=Europe/Paris:20160229T190000
DTEND;TZID=Europe/Paris:20160229T210000
DTSTAMP:20260423T044822
CREATED:20160203T132848Z
LAST-MODIFIED:20160208T110648Z
UID:1273-1456772400-1456779600@paroissejoinvillelepont.fr
SUMMARY:Stop Etape. Lecture de la Bible
DESCRIPTION:Messe à 19h00\, temps d’adoration suivi d’un temps de discussion autour de la lecture continue de la Bible proposée pendant le Carême. Lien vers le tableau des lectures
URL:https://paroissejoinvillelepont.fr/evenement/stop-etape-lecture-de-la-bible-2016-02-29/
LOCATION:Saint Charles Borromée\, 5 rue de Paris\, Joinville-le-Pont\, 94340\, France
CATEGORIES:Messes et célébrations
ORGANIZER;CN="P%C3%A8re%20Gr%C3%A9goire%20Bellut":MAILTO:pgbellut@paroissejoinvillelepont.fr
END:VEVENT
END:VCALENDAR