BEGIN:VCALENDAR
VERSION:2.0
PRODID:-//Paroisse Sainte Anne de Polangis - Joinville le Pont - ECPv5.16.1.1//NONSGML v1.0//EN
CALSCALE:GREGORIAN
METHOD:PUBLISH
X-ORIGINAL-URL:https://paroissejoinvillelepont.fr
X-WR-CALDESC:évènements pour Paroisse Sainte Anne de Polangis - Joinville le Pont
REFRESH-INTERVAL;VALUE=DURATION:PT1H
X-Robots-Tag:noindex
X-PUBLISHED-TTL:PT1H
BEGIN:VTIMEZONE
TZID:Europe/Paris
BEGIN:DAYLIGHT
TZOFFSETFROM:+0100
TZOFFSETTO:+0200
TZNAME:CEST
DTSTART:20150329T010000
END:DAYLIGHT
BEGIN:STANDARD
TZOFFSETFROM:+0200
TZOFFSETTO:+0100
TZNAME:CET
DTSTART:20151025T010000
END:STANDARD
BEGIN:DAYLIGHT
TZOFFSETFROM:+0100
TZOFFSETTO:+0200
TZNAME:CEST
DTSTART:20160327T010000
END:DAYLIGHT
BEGIN:STANDARD
TZOFFSETFROM:+0200
TZOFFSETTO:+0100
TZNAME:CET
DTSTART:20161030T010000
END:STANDARD
END:VTIMEZONE
BEGIN:VEVENT
DTSTART;TZID=Europe/Paris:20151231T190000
DTEND;TZID=Europe/Paris:20160101T011500
DTSTAMP:20260423T062827
CREATED:20151130T063901Z
LAST-MODIFIED:20151217T214559Z
UID:337-1451588400-1451610900@paroissejoinvillelepont.fr
SUMMARY:Messe du Nouvel An
DESCRIPTION:à partir de 19h : Prière d’adoration et de louange à St-Charles (veillée animée par Éphraïm)\n00h15  : Messe de la fête de Marie\, Mère de Dieu à St-Charles
URL:https://paroissejoinvillelepont.fr/evenement/nouvel-an-2016/
LOCATION:Saint Charles Borromée\, 5 rue de Paris\, Joinville-le-Pont\, 94340\, France
CATEGORIES:Messes et célébrations
END:VEVENT
BEGIN:VEVENT
DTSTART;TZID=Europe/Paris:20160110T190000
DTEND;TZID=Europe/Paris:20160110T200000
DTSTAMP:20260423T062827
CREATED:20151115T150359Z
LAST-MODIFIED:20151115T150359Z
UID:296-1452452400-1452456000@paroissejoinvillelepont.fr
SUMMARY:messe des Jeunes
DESCRIPTION:
URL:https://paroissejoinvillelepont.fr/evenement/messe-des-jeunes-2/
LOCATION:Saint Charles Borromée\, 5 rue de Paris\, Joinville-le-Pont\, 94340\, France
CATEGORIES:Messes et célébrations
END:VEVENT
BEGIN:VEVENT
DTSTART;TZID=Europe/Paris:20160124T170000
DTEND;TZID=Europe/Paris:20160124T180000
DTSTAMP:20260423T062827
CREATED:20160118T211628Z
LAST-MODIFIED:20160118T211628Z
UID:967-1453654800-1453658400@paroissejoinvillelepont.fr
SUMMARY:Semaine de l'Unité - Vêpres
DESCRIPTION:Durant la semaine de l’unité\, voici les évènements spécifiques au sein de la paroisse : \n\nDimanche 24 Janvier à 17h  : Vêpres à l’Eglise St-Charles\nLundi 25 Janvier à 20h30 : Veillée de Louange à l’Eglise Baptiste
URL:https://paroissejoinvillelepont.fr/evenement/semaine-de-lunite-vepres/
LOCATION:Saint Charles Borromée\, 5 rue de Paris\, Joinville-le-Pont\, 94340\, France
CATEGORIES:Messes et célébrations
ATTACH;FMTTYPE=image/jpeg:https://paroissejoinvillelepont.fr/wp-content/uploads/2016/01/semaine-de-lunite-2016.jpg
END:VEVENT
BEGIN:VEVENT
DTSTART;TZID=Europe/Paris:20160125T200000
DTEND;TZID=Europe/Paris:20160125T210000
DTSTAMP:20260423T062827
CREATED:20160109T142554Z
LAST-MODIFIED:20160109T150109Z
UID:919-1453752000-1453755600@paroissejoinvillelepont.fr
SUMMARY:Prière d’adoration et de guérison
DESCRIPTION:Tous les 4èmes lundi de chaque mois à Saint-Charles
URL:https://paroissejoinvillelepont.fr/evenement/priere-dadoration-et-de-guerison/
LOCATION:Saint Charles Borromée\, 5 rue de Paris\, Joinville-le-Pont\, 94340\, France
CATEGORIES:Messes et célébrations
END:VEVENT
BEGIN:VEVENT
DTSTART;TZID=Europe/Paris:20160125T203000
DTEND;TZID=Europe/Paris:20160125T203000
DTSTAMP:20260423T062827
CREATED:20160118T211825Z
LAST-MODIFIED:20160118T211825Z
UID:968-1453753800-1453753800@paroissejoinvillelepont.fr
SUMMARY:Semaine de l'Unité - Veillée de louange
DESCRIPTION:Durant la semaine de l’unité\, voici les évènements spécifiques au sein de la paroisse : \n\nDimanche 24 Janvier à 17h  : Vêpres à l’Eglise St-Charles\nLundi 25 Janvier à 20h30 : Veillée de Louange à l’Eglise Baptiste
URL:https://paroissejoinvillelepont.fr/evenement/semaine-de-lunite-louange/
CATEGORIES:Messes et célébrations
ATTACH;FMTTYPE=image/jpeg:https://paroissejoinvillelepont.fr/wp-content/uploads/2016/01/semaine-de-lunite-2016.jpg
END:VEVENT
BEGIN:VEVENT
DTSTART;TZID=Europe/Paris:20160129T190000
DTEND;TZID=Europe/Paris:20160129T200000
DTSTAMP:20260423T062827
CREATED:20160124T135206Z
LAST-MODIFIED:20160124T135206Z
UID:1197-1454094000-1454097600@paroissejoinvillelepont.fr
SUMMARY:Fête du Bienheureux Bronislaw Markiewicz
DESCRIPTION:La communauté des soeurs Michaëlites vous invite tous pour la fête de son fondateur
URL:https://paroissejoinvillelepont.fr/evenement/fete-du-bienheureux-bronislaw-markiewicz/
LOCATION:Saint Charles Borromée\, 5 rue de Paris\, Joinville-le-Pont\, 94340\, France
CATEGORIES:Messes et célébrations
END:VEVENT
BEGIN:VEVENT
DTSTART;TZID=Europe/Paris:20160131T190000
DTEND;TZID=Europe/Paris:20160131T200000
DTSTAMP:20260423T062827
CREATED:20151130T062917Z
LAST-MODIFIED:20151130T062917Z
UID:330-1454266800-1454270400@paroissejoinvillelepont.fr
SUMMARY:messe des Jeunes
DESCRIPTION:
URL:https://paroissejoinvillelepont.fr/evenement/messe-des-jeunes-10/
LOCATION:Saint Charles Borromée\, 5 rue de Paris\, Joinville-le-Pont\, 94340\, France
CATEGORIES:Messes et célébrations
END:VEVENT
END:VCALENDAR