BEGIN:VCALENDAR
VERSION:2.0
PRODID:-//Paroisse Sainte Anne de Polangis - Joinville le Pont - ECPv5.16.1.1//NONSGML v1.0//EN
CALSCALE:GREGORIAN
METHOD:PUBLISH
X-ORIGINAL-URL:https://paroissejoinvillelepont.fr
X-WR-CALDESC:évènements pour Paroisse Sainte Anne de Polangis - Joinville le Pont
REFRESH-INTERVAL;VALUE=DURATION:PT1H
X-Robots-Tag:noindex
X-PUBLISHED-TTL:PT1H
BEGIN:VTIMEZONE
TZID:Europe/Paris
BEGIN:DAYLIGHT
TZOFFSETFROM:+0100
TZOFFSETTO:+0200
TZNAME:CEST
DTSTART:20150329T010000
END:DAYLIGHT
BEGIN:STANDARD
TZOFFSETFROM:+0200
TZOFFSETTO:+0100
TZNAME:CET
DTSTART:20151025T010000
END:STANDARD
BEGIN:DAYLIGHT
TZOFFSETFROM:+0100
TZOFFSETTO:+0200
TZNAME:CEST
DTSTART:20160327T010000
END:DAYLIGHT
BEGIN:STANDARD
TZOFFSETFROM:+0200
TZOFFSETTO:+0100
TZNAME:CET
DTSTART:20161030T010000
END:STANDARD
END:VTIMEZONE
BEGIN:VEVENT
DTSTART;TZID=Europe/Paris:20151206T190000
DTEND;TZID=Europe/Paris:20151206T200000
DTSTAMP:20260423T080234
CREATED:20151130T062647Z
LAST-MODIFIED:20151130T062647Z
UID:328-1449428400-1449432000@paroissejoinvillelepont.fr
SUMMARY:messe des Jeunes
DESCRIPTION:
URL:https://paroissejoinvillelepont.fr/evenement/messe-des-jeunes-8/
LOCATION:Saint Charles Borromée\, 5 rue de Paris\, Joinville-le-Pont\, 94340\, France
CATEGORIES:Messes et célébrations
END:VEVENT
BEGIN:VEVENT
DTSTART;TZID=Europe/Paris:20151213T190000
DTEND;TZID=Europe/Paris:20151213T200000
DTSTAMP:20260423T080234
CREATED:20151115T150305Z
LAST-MODIFIED:20151115T150305Z
UID:295-1450033200-1450036800@paroissejoinvillelepont.fr
SUMMARY:Messe des Jeunes
DESCRIPTION:
URL:https://paroissejoinvillelepont.fr/evenement/messe-des-jeunes/
LOCATION:Saint Charles Borromée\, 5 rue de Paris\, Joinville-le-Pont\, 94340\, France
CATEGORIES:Messes et célébrations
END:VEVENT
BEGIN:VEVENT
DTSTART;TZID=Europe/Paris:20151219T090000
DTEND;TZID=Europe/Paris:20151219T174500
DTSTAMP:20260423T080234
CREATED:20151217T214103Z
LAST-MODIFIED:20151217T214136Z
UID:748-1450515600-1450547100@paroissejoinvillelepont.fr
SUMMARY:Réconciliation
DESCRIPTION:Le Samedi 19 Décembre \n\nRéconciliation de 9h à 12h45 et de 13h45 à 17h45 à St-Charles
URL:https://paroissejoinvillelepont.fr/evenement/reconciliation/
LOCATION:Saint Charles Borromée\, 5 rue de Paris\, Joinville-le-Pont\, 94340\, France
CATEGORIES:Messes et célébrations
END:VEVENT
BEGIN:VEVENT
DTSTART;TZID=Europe/Paris:20151224T180000
DTEND;TZID=Europe/Paris:20151225T000000
DTSTAMP:20260423T080234
CREATED:20151130T070954Z
LAST-MODIFIED:20151217T214904Z
UID:364-1450980000-1451001600@paroissejoinvillelepont.fr
SUMMARY:Messes de la nuit de Noël
DESCRIPTION:18h : Messe des Familles\, Collège Lycée à St-Charles\n19h : Messe avec les enfants du catéchisme primaire à St-Anne\n20h30 :  Messe de la nuit de Noël aux Saints-Anges\n22h30 : Veillée et messe de Noël à St-Charles (Veillée animée par Ephraïm)
URL:https://paroissejoinvillelepont.fr/evenement/veille-noel-2015/
CATEGORIES:Messes et célébrations
ATTACH;FMTTYPE=image/jpeg:https://paroissejoinvillelepont.fr/wp-content/uploads/2015/12/freely-10215.jpg
END:VEVENT
BEGIN:VEVENT
DTSTART;TZID=Europe/Paris:20151225T093000
DTEND;TZID=Europe/Paris:20151225T120000
DTSTAMP:20260423T080234
CREATED:20151217T214722Z
LAST-MODIFIED:20151217T214722Z
UID:751-1451035800-1451044800@paroissejoinvillelepont.fr
SUMMARY:Messe de Noël
DESCRIPTION:Vendredi 25 Décembre \n\n9h30 : Messe de Noël à St-Charles\n11h : Messe de Noël à St-Anne\n11h00 : Messe de Noël aux Saints-Anges
URL:https://paroissejoinvillelepont.fr/evenement/messe-de-noel/
CATEGORIES:Messes et célébrations
END:VEVENT
BEGIN:VEVENT
DTSTART;TZID=Europe/Paris:20151231T190000
DTEND;TZID=Europe/Paris:20160101T011500
DTSTAMP:20260423T080234
CREATED:20151130T063901Z
LAST-MODIFIED:20151217T214559Z
UID:337-1451588400-1451610900@paroissejoinvillelepont.fr
SUMMARY:Messe du Nouvel An
DESCRIPTION:à partir de 19h : Prière d’adoration et de louange à St-Charles (veillée animée par Éphraïm)\n00h15  : Messe de la fête de Marie\, Mère de Dieu à St-Charles
URL:https://paroissejoinvillelepont.fr/evenement/nouvel-an-2016/
LOCATION:Saint Charles Borromée\, 5 rue de Paris\, Joinville-le-Pont\, 94340\, France
CATEGORIES:Messes et célébrations
END:VEVENT
END:VCALENDAR