BEGIN:VCALENDAR
VERSION:2.0
PRODID:-//Paroisse Sainte Anne de Polangis - Joinville le Pont - ECPv5.16.1.1//NONSGML v1.0//EN
CALSCALE:GREGORIAN
METHOD:PUBLISH
X-WR-CALNAME:Paroisse Sainte Anne de Polangis - Joinville le Pont
X-ORIGINAL-URL:https://paroissejoinvillelepont.fr
X-WR-CALDESC:évènements pour Paroisse Sainte Anne de Polangis - Joinville le Pont
REFRESH-INTERVAL;VALUE=DURATION:PT1H
X-Robots-Tag:noindex
X-PUBLISHED-TTL:PT1H
BEGIN:VTIMEZONE
TZID:Europe/Paris
BEGIN:DAYLIGHT
TZOFFSETFROM:+0100
TZOFFSETTO:+0200
TZNAME:CEST
DTSTART:20160327T010000
END:DAYLIGHT
BEGIN:STANDARD
TZOFFSETFROM:+0200
TZOFFSETTO:+0100
TZNAME:CET
DTSTART:20161030T010000
END:STANDARD
END:VTIMEZONE
BEGIN:VEVENT
DTSTART;TZID=Europe/Paris:20160612T110000
DTEND;TZID=Europe/Paris:20160612T190000
DTSTAMP:20260422T130132
CREATED:20160222T133622Z
LAST-MODIFIED:20160222T133622Z
UID:1359-1465729200-1465758000@paroissejoinvillelepont.fr
SUMMARY:Pèlerinage à Créteil
DESCRIPTION:
URL:https://paroissejoinvillelepont.fr/evenement/pelerinage-a-creteil/
LOCATION:Cathédrale de Créteil\, 2 Rue Pasteur Vallery Radot\, Créteil\, 94000\, France
CATEGORIES:Evènements
END:VEVENT
BEGIN:VEVENT
DTSTART;TZID=Europe/Paris:20160619T170000
DTEND;TZID=Europe/Paris:20160619T190000
DTSTAMP:20260422T130132
CREATED:20151130T065125Z
LAST-MODIFIED:20151130T065125Z
UID:346-1466355600-1466362800@paroissejoinvillelepont.fr
SUMMARY:Musicales de St Charles
DESCRIPTION:
URL:https://paroissejoinvillelepont.fr/evenement/musicales-de-st-charles-6/
CATEGORIES:Evènements
END:VEVENT
BEGIN:VEVENT
DTSTART;TZID=Europe/Paris:20160620T204500
DTEND;TZID=Europe/Paris:20160620T223000
DTSTAMP:20260422T130132
CREATED:20160605T191915Z
LAST-MODIFIED:20160605T191915Z
UID:1926-1466455500-1466461800@paroissejoinvillelepont.fr
SUMMARY:Conférence-débat sur la fin de vie
DESCRIPTION:Organisée par les AFC de Joinville \navec le Dr Elisabeth Balladur\, responsable d’un réseau de soins palliatifs.
URL:https://paroissejoinvillelepont.fr/evenement/conference-debat-sur-la-fin-de-vie/
LOCATION:Saint Charles Borromée\, 5 rue de Paris\, Joinville-le-Pont\, 94340\, France
CATEGORIES:Evènements
END:VEVENT
BEGIN:VEVENT
DTSTART;TZID=Europe/Paris:20160625T100000
DTEND;TZID=Europe/Paris:20160625T180000
DTSTAMP:20260422T130132
CREATED:20160605T192202Z
LAST-MODIFIED:20160605T192202Z
UID:1927-1466848800-1466877600@paroissejoinvillelepont.fr
SUMMARY:Brocante de Ste Anne
DESCRIPTION:Dons d’objets le vendredi 24 juin de 10 à 18 H
URL:https://paroissejoinvillelepont.fr/evenement/brocante-de-ste-anne/
LOCATION:Sainte Anne de Polangis\, 64 rue Oudinot\, Joinville-le-Pont\, 94340\, France
CATEGORIES:Evènements
END:VEVENT
BEGIN:VEVENT
DTSTART;TZID=Europe/Paris:20160626T140000
DTEND;TZID=Europe/Paris:20160626T180000
DTSTAMP:20260422T130132
CREATED:20160605T192310Z
LAST-MODIFIED:20160605T192310Z
UID:1928-1466949600-1466964000@paroissejoinvillelepont.fr
SUMMARY:Brocante de Ste Anne
DESCRIPTION:Barbecue\, 12 € le repas
URL:https://paroissejoinvillelepont.fr/evenement/brocante-de-ste-anne-2/
LOCATION:Sainte Anne de Polangis\, 64 rue Oudinot\, Joinville-le-Pont\, 94340\, France
CATEGORIES:Evènements
END:VEVENT
END:VCALENDAR