BEGIN:VCALENDAR
VERSION:2.0
PRODID:-//Paroisse Sainte Anne de Polangis - Joinville le Pont - ECPv5.16.1.1//NONSGML v1.0//EN
CALSCALE:GREGORIAN
METHOD:PUBLISH
X-ORIGINAL-URL:https://paroissejoinvillelepont.fr
X-WR-CALDESC:évènements pour Paroisse Sainte Anne de Polangis - Joinville le Pont
REFRESH-INTERVAL;VALUE=DURATION:PT1H
X-Robots-Tag:noindex
X-PUBLISHED-TTL:PT1H
BEGIN:VTIMEZONE
TZID:Europe/Paris
BEGIN:DAYLIGHT
TZOFFSETFROM:+0100
TZOFFSETTO:+0200
TZNAME:CEST
DTSTART:20150329T010000
END:DAYLIGHT
BEGIN:STANDARD
TZOFFSETFROM:+0200
TZOFFSETTO:+0100
TZNAME:CET
DTSTART:20151025T010000
END:STANDARD
END:VTIMEZONE
BEGIN:VEVENT
DTSTART;TZID=Europe/Paris:20151205T193000
DTEND;TZID=Europe/Paris:20151205T223000
DTSTAMP:20260422T221502
CREATED:20151107T160220Z
LAST-MODIFIED:20151108T180020Z
UID:224-1449343800-1449354600@paroissejoinvillelepont.fr
SUMMARY:TOP
DESCRIPTION:Table Ouverte Paroissiale = chacun invite un voisin ou une relation qui ne vient pas régulièrement à l’église
URL:https://paroissejoinvillelepont.fr/evenement/top/
LOCATION:Saint Charles Borromée\, 5 rue de Paris\, Joinville-le-Pont\, 94340\, France
CATEGORIES:Evènements
END:VEVENT
BEGIN:VEVENT
DTSTART;TZID=Europe/Paris:20151206T120000
DTEND;TZID=Europe/Paris:20151206T150000
DTSTAMP:20260422T221502
CREATED:20151130T064024Z
LAST-MODIFIED:20151130T064113Z
UID:338-1449403200-1449414000@paroissejoinvillelepont.fr
SUMMARY:TOP
DESCRIPTION:Table Ouverte Paroissiale = chacun invite un voisin ou une relation qui ne vient pas régulièrement à l’église
URL:https://paroissejoinvillelepont.fr/evenement/top-2/
LOCATION:Sainte Anne de Polangis\, 64 rue Oudinot\, Joinville-le-Pont\, 94340\, France
CATEGORIES:Evènements
END:VEVENT
BEGIN:VEVENT
DTSTART;TZID=Europe/Paris:20151212T140000
DTEND;TZID=Europe/Paris:20151212T180000
DTSTAMP:20260422T221502
CREATED:20151130T064318Z
LAST-MODIFIED:20151130T065357Z
UID:339-1449928800-1449943200@paroissejoinvillelepont.fr
SUMMARY:pèlerinage ND des Miracles
DESCRIPTION:2 départs de Ste Anne et St Charles (en petits groupes en raison du plan d’urgence) vers St Maur
URL:https://paroissejoinvillelepont.fr/evenement/pelerinage-nd-des-miracles/
CATEGORIES:Evènements
END:VEVENT
BEGIN:VEVENT
DTSTART;TZID=Europe/Paris:20151220T170000
DTEND;TZID=Europe/Paris:20151220T180000
DTSTAMP:20260422T221502
CREATED:20151212T094904Z
LAST-MODIFIED:20151212T095053Z
UID:618-1450630800-1450634400@paroissejoinvillelepont.fr
SUMMARY:Concert de Noël
DESCRIPTION:Venez nombreux le Dimanche 20 Décembre au Concert de Noël et écouter l’Ensemble Gabrieli sous la direction d’Anne-Carole Denès ! \n 
URL:https://paroissejoinvillelepont.fr/evenement/concert-noel-2015/
LOCATION:Saint Charles Borromée\, 5 rue de Paris\, Joinville-le-Pont\, 94340\, France
CATEGORIES:Evènements
END:VEVENT
END:VCALENDAR